BEGIN:VCALENDAR
VERSION:2.0
PRODID:-//Orange County District Attorney David M. Hoovler - ECPv6.15.20//NONSGML v1.0//EN
CALSCALE:GREGORIAN
METHOD:PUBLISH
X-ORIGINAL-URL:https://davidmhoovler.com
X-WR-CALDESC:Events for Orange County District Attorney David M. Hoovler
REFRESH-INTERVAL;VALUE=DURATION:PT1H
X-Robots-Tag:noindex
X-PUBLISHED-TTL:PT1H
BEGIN:VTIMEZONE
TZID:America/New_York
BEGIN:DAYLIGHT
TZOFFSETFROM:-0500
TZOFFSETTO:-0400
TZNAME:EDT
DTSTART:20250309T070000
END:DAYLIGHT
BEGIN:STANDARD
TZOFFSETFROM:-0400
TZOFFSETTO:-0500
TZNAME:EST
DTSTART:20251102T060000
END:STANDARD
BEGIN:DAYLIGHT
TZOFFSETFROM:-0500
TZOFFSETTO:-0400
TZNAME:EDT
DTSTART:20260308T070000
END:DAYLIGHT
BEGIN:STANDARD
TZOFFSETFROM:-0400
TZOFFSETTO:-0500
TZNAME:EST
DTSTART:20261101T060000
END:STANDARD
BEGIN:DAYLIGHT
TZOFFSETFROM:-0500
TZOFFSETTO:-0400
TZNAME:EDT
DTSTART:20270314T070000
END:DAYLIGHT
BEGIN:STANDARD
TZOFFSETFROM:-0400
TZOFFSETTO:-0500
TZNAME:EST
DTSTART:20271107T060000
END:STANDARD
END:VTIMEZONE
BEGIN:VEVENT
DTSTART;TZID=America/New_York:20260529T110000
DTEND;TZID=America/New_York:20260529T190000
DTSTAMP:20260422T154113
CREATED:20260210T185223Z
LAST-MODIFIED:20260212T151804Z
UID:5215-1780052400-1780081200@davidmhoovler.com
SUMMARY:14th Annual David M. Hoovler Golf Outing
DESCRIPTION:Shoot your shot at winning up to $10\,000 in prizes!\n  \nHigh Point Golf Club\n342 Shore Drive\, Montague\, NJ 07827 \n11 A.M. REGISTRATION/LUNCH | 12 P.M. SHOTGUN START\n5 P.M. COCKTAIL HOUR/DINNER\nLIMITED TO FIRST 148 PAID GOLFERS \nTO PLAY\n$600 | FOURSOME  /  $155 | GOLFER\n(includes greens fees\, cart\, prizes\, lunch\, open-bar cocktail hour\, and dinner) \n$65 | Cocktail Hour/Dinner Guest \nTO SPONSOR\nTITLE SPONSOR $5\,000\nNaming rights\, two foursomes\, four cocktail party guests\, jumbo podium signage during cocktail party\, multiple tee signs on course\, banner display during dinner \nCocktail Sponsor $3\,000\nOne foursome\, signage during cocktail party\, multiple tee signs on course\, banner display during dinner \nBeverage Cart Sponsor $2\,500\nOne foursome\, custom signage with logo on one beverage cart or volunteer cart\, multiple tee signs on course\, banner display during dinner \nLunch/Registration Sponsor $1\,500\nOne foursome\, jumbo signage during registration/lunch\, multiple tee signs on course\, banner display during registration/lunch \nEagle (Cart) Sponsor $1\,000\nTwo golfers\, company name on golf cart\, tee sign on course\, logo displayed during cocktail party \nDriving Range Sponsor $750\nOne golfer\, company logo/name prominently displayed at driving range \nBirdie Sponsor $500\nOne golfer\, tee sign on course\, logo displayed during cocktail party \nPar Sponsor $200\nTee sign on course\, logo displayed during cocktail party \nTee Sign $50 \nTo reserve your spot or to sponsor\, complete the form below\, email david@davidmhoovler.com\, or call 845.597.8017. \nChecks can be made out to: \nHoovler For District Attorney\nPO Box 142\nChester\, NY 10918 \nAll sponsors are asked to send hi-resolution versions of their logos to david@davidmhoovler.com by no later than May 20 for proper inclusion on signage. \n﻿
URL:https://davidmhoovler.com/event/2026-david-m-hoovler-golf-outing/
LOCATION:High Point Golf Club\, 342 Shore Drive\, Montague\, NJ\, 07827\, United States
ATTACH;FMTTYPE=image/jpeg:https://davidmhoovler.com/wp-content/uploads/2026/02/2026-Golf-web-event.jpg
END:VEVENT
END:VCALENDAR